BEGIN:VCALENDAR
VERSION:2.0
PRODID:-//Rolvenden Primary School - ECPv6.15.20//NONSGML v1.0//EN
CALSCALE:GREGORIAN
METHOD:PUBLISH
X-WR-CALNAME:Rolvenden Primary School
X-ORIGINAL-URL:https://rolvenden.kent.sch.uk
X-WR-CALDESC:Events for Rolvenden Primary School
REFRESH-INTERVAL;VALUE=DURATION:PT1H
X-Robots-Tag:noindex
X-PUBLISHED-TTL:PT1H
BEGIN:VTIMEZONE
TZID:Europe/London
BEGIN:DAYLIGHT
TZOFFSETFROM:+0000
TZOFFSETTO:+0100
TZNAME:BST
DTSTART:20230326T010000
END:DAYLIGHT
BEGIN:STANDARD
TZOFFSETFROM:+0100
TZOFFSETTO:+0000
TZNAME:GMT
DTSTART:20231029T010000
END:STANDARD
BEGIN:DAYLIGHT
TZOFFSETFROM:+0000
TZOFFSETTO:+0100
TZNAME:BST
DTSTART:20240331T010000
END:DAYLIGHT
BEGIN:STANDARD
TZOFFSETFROM:+0100
TZOFFSETTO:+0000
TZNAME:GMT
DTSTART:20241027T010000
END:STANDARD
BEGIN:DAYLIGHT
TZOFFSETFROM:+0000
TZOFFSETTO:+0100
TZNAME:BST
DTSTART:20250330T010000
END:DAYLIGHT
BEGIN:STANDARD
TZOFFSETFROM:+0100
TZOFFSETTO:+0000
TZNAME:GMT
DTSTART:20251026T010000
END:STANDARD
END:VTIMEZONE
BEGIN:VEVENT
DTSTART;VALUE=DATE:20240703
DTEND;VALUE=DATE:20240704
DTSTAMP:20260422T180705
CREATED:20240611T092851Z
LAST-MODIFIED:20240611T092851Z
UID:1914-1719964800-1720051199@rolvenden.kent.sch.uk
SUMMARY:FORS Disco
DESCRIPTION:From 5.45pm\, more information to come!
URL:https://rolvenden.kent.sch.uk/calendar/fors-disco/
END:VEVENT
BEGIN:VEVENT
DTSTART;VALUE=DATE:20240708
DTEND;VALUE=DATE:20240709
DTSTAMP:20260422T180705
CREATED:20240611T093057Z
LAST-MODIFIED:20240611T093313Z
UID:1917-1720396800-1720483199@rolvenden.kent.sch.uk
SUMMARY:Sports Day
DESCRIPTION:Held at Benenden
URL:https://rolvenden.kent.sch.uk/calendar/sports-day/
CATEGORIES:Term Dates
END:VEVENT
BEGIN:VEVENT
DTSTART;TZID=Europe/London:20240712T080000
DTEND;TZID=Europe/London:20240716T170000
DTSTAMP:20260422T180705
CREATED:20240611T093710Z
LAST-MODIFIED:20240611T093710Z
UID:1919-1720771200-1721149200@rolvenden.kent.sch.uk
SUMMARY:End of Year Performance - The Lion King
DESCRIPTION:Friday 12th\, Monday 15th and Tuesday 16th July
URL:https://rolvenden.kent.sch.uk/calendar/end-of-year-performance-the-lion-king/
END:VEVENT
BEGIN:VEVENT
DTSTART;TZID=Europe/London:20240719T093000
DTEND;TZID=Europe/London:20240719T110000
DTSTAMP:20260422T180705
CREATED:20240611T094253Z
LAST-MODIFIED:20240611T094253Z
UID:1923-1721381400-1721386800@rolvenden.kent.sch.uk
SUMMARY:Leaver's Assembly
DESCRIPTION:From 9.30am
URL:https://rolvenden.kent.sch.uk/calendar/leavers-assembly/
CATEGORIES:Term Dates
END:VEVENT
END:VCALENDAR