BEGIN:VCALENDAR
VERSION:2.0
PRODID:-//Rolvenden Primary School - ECPv6.15.20//NONSGML v1.0//EN
CALSCALE:GREGORIAN
METHOD:PUBLISH
X-ORIGINAL-URL:https://rolvenden.kent.sch.uk
X-WR-CALDESC:Events for Rolvenden Primary School
REFRESH-INTERVAL;VALUE=DURATION:PT1H
X-Robots-Tag:noindex
X-PUBLISHED-TTL:PT1H
BEGIN:VTIMEZONE
TZID:Europe/London
BEGIN:DAYLIGHT
TZOFFSETFROM:+0000
TZOFFSETTO:+0100
TZNAME:BST
DTSTART:20220327T010000
END:DAYLIGHT
BEGIN:STANDARD
TZOFFSETFROM:+0100
TZOFFSETTO:+0000
TZNAME:GMT
DTSTART:20221030T010000
END:STANDARD
BEGIN:DAYLIGHT
TZOFFSETFROM:+0000
TZOFFSETTO:+0100
TZNAME:BST
DTSTART:20230326T010000
END:DAYLIGHT
BEGIN:STANDARD
TZOFFSETFROM:+0100
TZOFFSETTO:+0000
TZNAME:GMT
DTSTART:20231029T010000
END:STANDARD
BEGIN:DAYLIGHT
TZOFFSETFROM:+0000
TZOFFSETTO:+0100
TZNAME:BST
DTSTART:20240331T010000
END:DAYLIGHT
BEGIN:STANDARD
TZOFFSETFROM:+0100
TZOFFSETTO:+0000
TZNAME:GMT
DTSTART:20241027T010000
END:STANDARD
BEGIN:DAYLIGHT
TZOFFSETFROM:+0000
TZOFFSETTO:+0100
TZNAME:BST
DTSTART:20250330T010000
END:DAYLIGHT
BEGIN:STANDARD
TZOFFSETFROM:+0100
TZOFFSETTO:+0000
TZNAME:GMT
DTSTART:20251026T010000
END:STANDARD
BEGIN:DAYLIGHT
TZOFFSETFROM:+0000
TZOFFSETTO:+0100
TZNAME:BST
DTSTART:20260329T010000
END:DAYLIGHT
BEGIN:STANDARD
TZOFFSETFROM:+0100
TZOFFSETTO:+0000
TZNAME:GMT
DTSTART:20261025T010000
END:STANDARD
BEGIN:DAYLIGHT
TZOFFSETFROM:+0000
TZOFFSETTO:+0100
TZNAME:BST
DTSTART:20270328T010000
END:DAYLIGHT
BEGIN:STANDARD
TZOFFSETFROM:+0100
TZOFFSETTO:+0000
TZNAME:GMT
DTSTART:20271031T010000
END:STANDARD
END:VTIMEZONE
BEGIN:VEVENT
DTSTART;TZID=Europe/London:20260420T083500
DTEND;TZID=Europe/London:20260420T151500
DTSTAMP:20260421T103426
CREATED:20250709T125320Z
LAST-MODIFIED:20250709T125320Z
UID:2706-1776674100-1776698100@rolvenden.kent.sch.uk
SUMMARY:Start Term 5
DESCRIPTION:
URL:https://rolvenden.kent.sch.uk/calendar/start-term-5/
CATEGORIES:Term Dates
END:VEVENT
BEGIN:VEVENT
DTSTART;TZID=Europe/London:20260413T080000
DTEND;TZID=Europe/London:20260417T170000
DTSTAMP:20260421T103426
CREATED:20250709T131936Z
LAST-MODIFIED:20250710T120114Z
UID:2716-1776067200-1776445200@rolvenden.kent.sch.uk
SUMMARY:Easter Half Term
DESCRIPTION:
URL:https://rolvenden.kent.sch.uk/calendar/half-term-7/
CATEGORIES:Term Dates
END:VEVENT
BEGIN:VEVENT
DTSTART;TZID=Europe/London:20260406T080000
DTEND;TZID=Europe/London:20260410T170000
DTSTAMP:20260421T103426
CREATED:20250709T131858Z
LAST-MODIFIED:20250710T120029Z
UID:2714-1775462400-1775840400@rolvenden.kent.sch.uk
SUMMARY:Easter Half Term
DESCRIPTION:
URL:https://rolvenden.kent.sch.uk/calendar/half-term-6/
CATEGORIES:Term Dates
END:VEVENT
BEGIN:VEVENT
DTSTART;VALUE=DATE:20260403
DTEND;VALUE=DATE:20260404
DTSTAMP:20260421T103426
CREATED:20250709T132028Z
LAST-MODIFIED:20250709T132028Z
UID:2718-1775174400-1775260799@rolvenden.kent.sch.uk
SUMMARY:Good Friday
DESCRIPTION:
URL:https://rolvenden.kent.sch.uk/calendar/good-friday/
CATEGORIES:Term Dates
END:VEVENT
BEGIN:VEVENT
DTSTART;TZID=Europe/London:20260402T083500
DTEND;TZID=Europe/London:20260402T151500
DTSTAMP:20260421T103426
CREATED:20250709T125150Z
LAST-MODIFIED:20250709T125150Z
UID:2704-1775118900-1775142900@rolvenden.kent.sch.uk
SUMMARY:End of Term 4
DESCRIPTION:
URL:https://rolvenden.kent.sch.uk/calendar/end-of-term-4/
CATEGORIES:Term Dates
END:VEVENT
BEGIN:VEVENT
DTSTART;TZID=Europe/London:20260224T083500
DTEND;TZID=Europe/London:20260224T151500
DTSTAMP:20260421T103426
CREATED:20250709T123356Z
LAST-MODIFIED:20250709T123356Z
UID:2702-1771922100-1771946100@rolvenden.kent.sch.uk
SUMMARY:Start Term 4
DESCRIPTION:
URL:https://rolvenden.kent.sch.uk/calendar/start-term-4/
CATEGORIES:Term Dates
END:VEVENT
BEGIN:VEVENT
DTSTART;VALUE=DATE:20260223
DTEND;VALUE=DATE:20260224
DTSTAMP:20260421T103426
CREATED:20250709T122739Z
LAST-MODIFIED:20250709T122739Z
UID:2698-1771804800-1771891199@rolvenden.kent.sch.uk
SUMMARY:Staff Development
DESCRIPTION:
URL:https://rolvenden.kent.sch.uk/calendar/staff-development-2/
CATEGORIES:Term Dates
END:VEVENT
BEGIN:VEVENT
DTSTART;TZID=Europe/London:20260216T080000
DTEND;TZID=Europe/London:20260220T170000
DTSTAMP:20260421T103426
CREATED:20250709T122657Z
LAST-MODIFIED:20250709T122657Z
UID:2696-1771228800-1771606800@rolvenden.kent.sch.uk
SUMMARY:Half Term
DESCRIPTION:
URL:https://rolvenden.kent.sch.uk/calendar/half-term-4/
CATEGORIES:Term Dates
END:VEVENT
BEGIN:VEVENT
DTSTART;TZID=Europe/London:20260213T083500
DTEND;TZID=Europe/London:20260213T151500
DTSTAMP:20260421T103426
CREATED:20250709T122607Z
LAST-MODIFIED:20250709T122607Z
UID:2694-1770971700-1770995700@rolvenden.kent.sch.uk
SUMMARY:End of Term 3
DESCRIPTION:
URL:https://rolvenden.kent.sch.uk/calendar/end-of-term-3/
CATEGORIES:Term Dates
END:VEVENT
BEGIN:VEVENT
DTSTART;TZID=Europe/London:20260105T083500
DTEND;TZID=Europe/London:20260105T151500
DTSTAMP:20260421T103426
CREATED:20250709T122403Z
LAST-MODIFIED:20250709T122403Z
UID:2692-1767602100-1767626100@rolvenden.kent.sch.uk
SUMMARY:Start Term 3
DESCRIPTION:
URL:https://rolvenden.kent.sch.uk/calendar/start-term-3/
CATEGORIES:Term Dates
END:VEVENT
BEGIN:VEVENT
DTSTART;TZID=Europe/London:20251229T080000
DTEND;TZID=Europe/London:20260102T170000
DTSTAMP:20260421T103426
CREATED:20250709T132232Z
LAST-MODIFIED:20250709T132309Z
UID:2720-1766995200-1767373200@rolvenden.kent.sch.uk
SUMMARY:Christmas Half Term
DESCRIPTION:
URL:https://rolvenden.kent.sch.uk/calendar/christmas-half-term-2/
CATEGORIES:Term Dates
END:VEVENT
BEGIN:VEVENT
DTSTART;TZID=Europe/London:20251222T080000
DTEND;TZID=Europe/London:20251226T170000
DTSTAMP:20260421T103426
CREATED:20250709T122317Z
LAST-MODIFIED:20250709T132144Z
UID:2690-1766390400-1766768400@rolvenden.kent.sch.uk
SUMMARY:Christmas Half Term
DESCRIPTION:
URL:https://rolvenden.kent.sch.uk/calendar/christmas-half-term/
CATEGORIES:Term Dates
END:VEVENT
BEGIN:VEVENT
DTSTART;TZID=Europe/London:20251219T083500
DTEND;TZID=Europe/London:20251219T151500
DTSTAMP:20260421T103426
CREATED:20250709T122215Z
LAST-MODIFIED:20250709T122215Z
UID:2688-1766133300-1766157300@rolvenden.kent.sch.uk
SUMMARY:End of Term 2
DESCRIPTION:
URL:https://rolvenden.kent.sch.uk/calendar/end-of-term-2/
CATEGORIES:Term Dates
END:VEVENT
BEGIN:VEVENT
DTSTART;VALUE=DATE:20251124
DTEND;VALUE=DATE:20251125
DTSTAMP:20260421T103426
CREATED:20250709T122103Z
LAST-MODIFIED:20250709T122855Z
UID:2686-1763942400-1764028799@rolvenden.kent.sch.uk
SUMMARY:Staff Development
DESCRIPTION:
URL:https://rolvenden.kent.sch.uk/calendar/staff-development/
CATEGORIES:Term Dates
END:VEVENT
BEGIN:VEVENT
DTSTART;TZID=Europe/London:20251103T083500
DTEND;TZID=Europe/London:20251103T151500
DTSTAMP:20260421T103426
CREATED:20250709T121754Z
LAST-MODIFIED:20250709T121754Z
UID:2684-1762158900-1762182900@rolvenden.kent.sch.uk
SUMMARY:Start of Term 2
DESCRIPTION:
URL:https://rolvenden.kent.sch.uk/calendar/start-of-term-2/
CATEGORIES:Term Dates
END:VEVENT
BEGIN:VEVENT
DTSTART;TZID=Europe/London:20251027T080000
DTEND;TZID=Europe/London:20251031T170000
DTSTAMP:20260421T103426
CREATED:20250709T132547Z
LAST-MODIFIED:20250709T132547Z
UID:2723-1761552000-1761930000@rolvenden.kent.sch.uk
SUMMARY:Half Term
DESCRIPTION:
URL:https://rolvenden.kent.sch.uk/calendar/half-term-8/
CATEGORIES:Term Dates
END:VEVENT
BEGIN:VEVENT
DTSTART;VALUE=DATE:20251020
DTEND;VALUE=DATE:20251025
DTSTAMP:20260421T103426
CREATED:20250709T121303Z
LAST-MODIFIED:20250709T132459Z
UID:2681-1760918400-1761350399@rolvenden.kent.sch.uk
SUMMARY:Half Term
DESCRIPTION:
URL:https://rolvenden.kent.sch.uk/calendar/end-of-term-1/
CATEGORIES:Term Dates
END:VEVENT
BEGIN:VEVENT
DTSTART;TZID=Europe/London:20251017T083500
DTEND;TZID=Europe/London:20251017T151500
DTSTAMP:20260421T103426
CREATED:20250709T132643Z
LAST-MODIFIED:20250709T132643Z
UID:2725-1760690100-1760714100@rolvenden.kent.sch.uk
SUMMARY:End of Term 1
DESCRIPTION:
URL:https://rolvenden.kent.sch.uk/calendar/end-of-term-1-2/
CATEGORIES:Term Dates
END:VEVENT
BEGIN:VEVENT
DTSTART;TZID=Europe/London:20250828T083500
DTEND;TZID=Europe/London:20250828T151500
DTSTAMP:20260421T103426
CREATED:20250306T100800Z
LAST-MODIFIED:20250709T121110Z
UID:2460-1756370100-1756394100@rolvenden.kent.sch.uk
SUMMARY:Term 1 Starts
DESCRIPTION:
URL:https://rolvenden.kent.sch.uk/calendar/term-1-starts/
CATEGORIES:Term Dates
END:VEVENT
BEGIN:VEVENT
DTSTART;VALUE=DATE:20250718
DTEND;VALUE=DATE:20250719
DTSTAMP:20260421T103426
CREATED:20250709T120842Z
LAST-MODIFIED:20250709T121006Z
UID:2677-1752796800-1752883199@rolvenden.kent.sch.uk
SUMMARY:Last Day of Term
DESCRIPTION:
URL:https://rolvenden.kent.sch.uk/calendar/last-day-of-term/
CATEGORIES:Term Dates
END:VEVENT
BEGIN:VEVENT
DTSTART;VALUE=DATE:20250526
DTEND;VALUE=DATE:20250531
DTSTAMP:20260421T103426
CREATED:20250304T101251Z
LAST-MODIFIED:20250513T150542Z
UID:2439-1748217600-1748649599@rolvenden.kent.sch.uk
SUMMARY:Half Term
DESCRIPTION:
URL:https://rolvenden.kent.sch.uk/calendar/half-term-3/
CATEGORIES:Term Dates
END:VEVENT
BEGIN:VEVENT
DTSTART;VALUE=DATE:20250407
DTEND;VALUE=DATE:20250422
DTSTAMP:20260421T103426
CREATED:20250211T103456Z
LAST-MODIFIED:20250214T094951Z
UID:2319-1743984000-1745279999@rolvenden.kent.sch.uk
SUMMARY:Half Term
DESCRIPTION:
URL:https://rolvenden.kent.sch.uk/calendar/half-term-2/
CATEGORIES:Term Dates
END:VEVENT
BEGIN:VEVENT
DTSTART;VALUE=DATE:20250224
DTEND;VALUE=DATE:20250225
DTSTAMP:20260421T103426
CREATED:20250207T095800Z
LAST-MODIFIED:20250214T100416Z
UID:2207-1740355200-1740441599@rolvenden.kent.sch.uk
SUMMARY:INSET Day
DESCRIPTION:No children in school.
URL:https://rolvenden.kent.sch.uk/calendar/inset-day/
CATEGORIES:Term Dates
END:VEVENT
BEGIN:VEVENT
DTSTART;VALUE=DATE:20250215
DTEND;VALUE=DATE:20250224
DTSTAMP:20260421T103426
CREATED:20250207T095625Z
LAST-MODIFIED:20250214T100422Z
UID:2205-1739577600-1740355199@rolvenden.kent.sch.uk
SUMMARY:Half Term
DESCRIPTION:
URL:https://rolvenden.kent.sch.uk/calendar/half-term/
CATEGORIES:Term Dates
END:VEVENT
BEGIN:VEVENT
DTSTART;TZID=Europe/London:20240719T093000
DTEND;TZID=Europe/London:20240719T110000
DTSTAMP:20260421T103426
CREATED:20240611T094253Z
LAST-MODIFIED:20240611T094253Z
UID:1923-1721381400-1721386800@rolvenden.kent.sch.uk
SUMMARY:Leaver's Assembly
DESCRIPTION:From 9.30am
URL:https://rolvenden.kent.sch.uk/calendar/leavers-assembly/
CATEGORIES:Term Dates
END:VEVENT
BEGIN:VEVENT
DTSTART;VALUE=DATE:20240708
DTEND;VALUE=DATE:20240709
DTSTAMP:20260421T103426
CREATED:20240611T093057Z
LAST-MODIFIED:20240611T093313Z
UID:1917-1720396800-1720483199@rolvenden.kent.sch.uk
SUMMARY:Sports Day
DESCRIPTION:Held at Benenden
URL:https://rolvenden.kent.sch.uk/calendar/sports-day/
CATEGORIES:Term Dates
END:VEVENT
BEGIN:VEVENT
DTSTART;TZID=Europe/London:20240614T083000
DTEND;TZID=Europe/London:20240614T150000
DTSTAMP:20260421T103426
CREATED:20240611T091358Z
LAST-MODIFIED:20240611T093208Z
UID:1910-1718353800-1718377200@rolvenden.kent.sch.uk
SUMMARY:Class Photos
DESCRIPTION:All classes
URL:https://rolvenden.kent.sch.uk/calendar/class-photos/
CATEGORIES:Term Dates
END:VEVENT
BEGIN:VEVENT
DTSTART;TZID=Europe/London:20231021T000000
DTEND;TZID=Europe/London:20231105T000000
DTSTAMP:20260421T103426
CREATED:20230921T120536Z
LAST-MODIFIED:20230921T120536Z
UID:1197-1697846400-1699142400@rolvenden.kent.sch.uk
SUMMARY:October Half Term
DESCRIPTION:
URL:https://rolvenden.kent.sch.uk/calendar/october-half-term/
CATEGORIES:Term Dates
END:VEVENT
BEGIN:VEVENT
DTSTART;TZID=Europe/London:20231020T143000
DTEND;TZID=Europe/London:20231020T150000
DTSTAMP:20260421T103426
CREATED:20230921T142533Z
LAST-MODIFIED:20230921T142533Z
UID:1206-1697812200-1697814000@rolvenden.kent.sch.uk
SUMMARY:CREATE Assembly
DESCRIPTION:All parents invited – event held in the hall.
URL:https://rolvenden.kent.sch.uk/calendar/create-assembly/
CATEGORIES:Term Dates
END:VEVENT
END:VCALENDAR