BEGIN:VCALENDAR
VERSION:2.0
PRODID:-//Rolvenden Primary School - ECPv6.15.20//NONSGML v1.0//EN
CALSCALE:GREGORIAN
METHOD:PUBLISH
X-ORIGINAL-URL:https://rolvenden.kent.sch.uk
X-WR-CALDESC:Events for Rolvenden Primary School
REFRESH-INTERVAL;VALUE=DURATION:PT1H
X-Robots-Tag:noindex
X-PUBLISHED-TTL:PT1H
BEGIN:VTIMEZONE
TZID:Europe/London
BEGIN:DAYLIGHT
TZOFFSETFROM:+0000
TZOFFSETTO:+0100
TZNAME:BST
DTSTART:20240331T010000
END:DAYLIGHT
BEGIN:STANDARD
TZOFFSETFROM:+0100
TZOFFSETTO:+0000
TZNAME:GMT
DTSTART:20241027T010000
END:STANDARD
BEGIN:DAYLIGHT
TZOFFSETFROM:+0000
TZOFFSETTO:+0100
TZNAME:BST
DTSTART:20250330T010000
END:DAYLIGHT
BEGIN:STANDARD
TZOFFSETFROM:+0100
TZOFFSETTO:+0000
TZNAME:GMT
DTSTART:20251026T010000
END:STANDARD
BEGIN:DAYLIGHT
TZOFFSETFROM:+0000
TZOFFSETTO:+0100
TZNAME:BST
DTSTART:20260329T010000
END:DAYLIGHT
BEGIN:STANDARD
TZOFFSETFROM:+0100
TZOFFSETTO:+0000
TZNAME:GMT
DTSTART:20261025T010000
END:STANDARD
END:VTIMEZONE
BEGIN:VEVENT
DTSTART;TZID=Europe/London:20251017T083500
DTEND;TZID=Europe/London:20251017T151500
DTSTAMP:20260421T201550
CREATED:20250709T132643Z
LAST-MODIFIED:20250709T132643Z
UID:2725-1760690100-1760714100@rolvenden.kent.sch.uk
SUMMARY:End of Term 1
DESCRIPTION:
URL:https://rolvenden.kent.sch.uk/calendar/end-of-term-1-2/
CATEGORIES:Term Dates
END:VEVENT
BEGIN:VEVENT
DTSTART;VALUE=DATE:20251020
DTEND;VALUE=DATE:20251025
DTSTAMP:20260421T201550
CREATED:20250709T121303Z
LAST-MODIFIED:20250709T132459Z
UID:2681-1760918400-1761350399@rolvenden.kent.sch.uk
SUMMARY:Half Term
DESCRIPTION:
URL:https://rolvenden.kent.sch.uk/calendar/end-of-term-1/
CATEGORIES:Term Dates
END:VEVENT
BEGIN:VEVENT
DTSTART;TZID=Europe/London:20251027T080000
DTEND;TZID=Europe/London:20251031T170000
DTSTAMP:20260421T201550
CREATED:20250709T132547Z
LAST-MODIFIED:20250709T132547Z
UID:2723-1761552000-1761930000@rolvenden.kent.sch.uk
SUMMARY:Half Term
DESCRIPTION:
URL:https://rolvenden.kent.sch.uk/calendar/half-term-8/
CATEGORIES:Term Dates
END:VEVENT
END:VCALENDAR